BEGIN:VCALENDAR
VERSION:2.0
PRODID:-//wp-events-plugin.com//6.4.7.1//EN
TZID:Europe/Zurich
X-WR-TIMEZONE:Europe/Zurich
BEGIN:VEVENT
UID:2@grimm-vs.ch
DTSTART;TZID=Europe/Zurich:20230323T190000
DTEND;TZID=Europe/Zurich:20230323T200000
DTSTAMP:20230112T140447Z
URL:https://grimm-vs.ch/events/lecmo-quand-faut-il-y-penser-en-prehospital
 ier/
SUMMARY:L’ECMO : quand faut-il y penser en préhospitalier ?
DESCRIPTION:Intervenant\n\n 	Juan Garcia\, médecin intensiviste à Sion\n
CATEGORIES:Colloque
LOCATION:Maison FXB du sauvetage\, Rte de l'Aéroport 25\, Sion\, 1950\, Su
 isse
X-APPLE-STRUCTURED-LOCATION;VALUE=URI;X-ADDRESS=Rte de l'Aéroport 25\, Sio
 n\, 1950\, Suisse;X-APPLE-RADIUS=100;X-TITLE=Maison FXB du sauvetage:geo:0
 ,0
END:VEVENT
BEGIN:VTIMEZONE
TZID:Europe/Zurich
X-LIC-LOCATION:Europe/Zurich
BEGIN:STANDARD
DTSTART:20221030T020000
TZOFFSETFROM:+0200
TZOFFSETTO:+0100
TZNAME:CET
END:STANDARD
END:VTIMEZONE
END:VCALENDAR